{
 "currentVersion": 10.91,
 "serviceDescription": "ICIA/National_Land_Cover_Database_2006_L48_tif",
 "name": "ICIA/National_Land_Cover_Database_2006_L48_tif",
 "description": "",
 "extent": {
  "xmin": 2241690.3767676568,
  "ymin": 1198688.5132302367,
  "xmax": 2744610.3767676568,
  "ymax": 1982018.5132302367,
  "spatialReference": {
   "wkid": 102605,
   "latestWkid": 8826
  }
 },
 "initialExtent": {
  "xmin": 2241690.3767676568,
  "ymin": 1198688.5132302367,
  "xmax": 2744610.3767676568,
  "ymax": 1982018.5132302367,
  "spatialReference": {
   "wkid": 102605,
   "latestWkid": 8826
  }
 },
 "fullExtent": {
  "xmin": 2241690.3767676568,
  "ymin": 1198688.5132302367,
  "xmax": 2744610.3767676568,
  "ymax": 1982018.5132302367,
  "spatialReference": {
   "wkid": 102605,
   "latestWkid": 8826
  }
 },
 "hasMultidimensions": false,
 "pixelSizeX": 30,
 "pixelSizeY": 30,
 "datasetFormat": "TIFF",
 "uncompressedSize": 1313174412,
 "blockWidth": 128,
 "blockHeight": 128,
 "compressionType": "LZW",
 "bandNames": [
  "Band_1"
 ],
 "allowCopy": true,
 "allowAnalysis": true,
 "bandCount": 3,
 "noDataValue": 256,
 "noDataValues": [
  256,
  256,
  256
 ],
 "pixelType": "U8",
 "minPixelSize": 0,
 "maxPixelSize": 0,
 "copyrightText": "",
 "serviceDataType": "esriImageServiceDataTypeThematic",
 "serviceSourceType": "esriImageServiceSourceTypeDataset",
 "minValues": [],
 "maxValues": [],
 "meanValues": [],
 "stdvValues": [],
 "objectIdField": "",
 "fields": [],
 "capabilities": "Image,Metadata,Mensuration",
 "defaultMosaicMethod": "Center",
 "allowedMosaicMethods": "",
 "sortField": "",
 "sortValue": null,
 "sortAscending": true,
 "mosaicOperator": "First",
 "defaultCompressionQuality": 75,
 "defaultResamplingMethod": "Bilinear",
 "maxImageHeight": 4100,
 "maxImageWidth": 15000,
 "allowRasterFunction": true,
 "rasterFunctionInfos": [
  {
   "name": "None",
   "description": "",
   "help": ""
  }
 ],
 "rasterTypeInfos": [
  {
   "name": "Raster Dataset",
   "description": "Supports all ArcGIS Raster Datasets",
   "help": ""
  }
 ],
 "mensurationCapabilities": "Basic",
 "hasHistograms": false,
 "hasColormap": false,
 "hasRasterAttributeTable": false,
 "minScale": 0,
 "maxScale": 0,
 "exportTilesAllowed": false,
 "supportsStatistics": false,
 "supportsAdvancedQueries": false,
 "editFieldsInfo": null,
 "ownershipBasedAccessControlForRasters": null,
 "allowComputeTiePoints": false,
 "useStandardizedQueries": true,
 "advancedQueryCapabilities": {
  "useStandardizedQueries": true,
  "supportsStatistics": false,
  "supportsOrderBy": false,
  "supportsDistinct": false,
  "supportsPagination": false
 },
 "spatialReference": {
  "wkid": 102605,
  "latestWkid": 8826
 }
}
