{
 "currentVersion": 10.91,
 "serviceDescription": "ICIA/ProjectedAnnualPrecipitation",
 "name": "ICIA/ProjectedAnnualPrecipitation",
 "description": "",
 "extent": {
  "xmin": 2239396.642967811,
  "ymin": 1198256.0027362807,
  "xmax": 2744396.642967811,
  "ymax": 1983256.0027362807,
  "spatialReference": {
   "wkid": 102605,
   "latestWkid": 8826
  }
 },
 "initialExtent": {
  "xmin": 2239396.642967811,
  "ymin": 1198256.0027362807,
  "xmax": 2744396.642967811,
  "ymax": 1983256.0027362807,
  "spatialReference": {
   "wkid": 102605,
   "latestWkid": 8826
  }
 },
 "fullExtent": {
  "xmin": 2239396.642967811,
  "ymin": 1198256.0027362807,
  "xmax": 2744396.642967811,
  "ymax": 1983256.0027362807,
  "spatialReference": {
   "wkid": 102605,
   "latestWkid": 8826
  }
 },
 "hasMultidimensions": false,
 "pixelSizeX": 5000,
 "pixelSizeY": 5000,
 "datasetFormat": "TIFF",
 "uncompressedSize": 63428,
 "blockWidth": 128,
 "blockHeight": 128,
 "compressionType": "LZW",
 "bandNames": [
  "Band_1"
 ],
 "allowCopy": true,
 "allowAnalysis": true,
 "bandCount": 1,
 "noDataValue": -9999,
 "noDataValues": [
  -9999
 ],
 "pixelType": "F32",
 "minPixelSize": 0,
 "maxPixelSize": 0,
 "copyrightText": "",
 "serviceDataType": "esriImageServiceDataTypeGeneric",
 "serviceSourceType": "esriImageServiceSourceTypeDataset",
 "minValues": [
  6.5706028938293
 ],
 "maxValues": [
  81.630447387695
 ],
 "meanValues": [
  24.847644088373
 ],
 "stdvValues": [
  13.207564340221
 ],
 "objectIdField": "",
 "fields": [],
 "capabilities": "Image,Metadata,Mensuration",
 "defaultMosaicMethod": "Center",
 "allowedMosaicMethods": "",
 "sortField": "",
 "sortValue": null,
 "sortAscending": true,
 "mosaicOperator": "First",
 "defaultCompressionQuality": 75,
 "defaultResamplingMethod": "Bilinear",
 "maxImageHeight": 4100,
 "maxImageWidth": 15000,
 "allowRasterFunction": true,
 "rasterFunctionInfos": [
  {
   "name": "None",
   "description": "",
   "help": ""
  }
 ],
 "rasterTypeInfos": [
  {
   "name": "Raster Dataset",
   "description": "Supports all ArcGIS Raster Datasets",
   "help": ""
  }
 ],
 "mensurationCapabilities": "Basic",
 "hasHistograms": true,
 "hasColormap": false,
 "hasRasterAttributeTable": false,
 "minScale": 0,
 "maxScale": 0,
 "exportTilesAllowed": false,
 "supportsStatistics": false,
 "supportsAdvancedQueries": false,
 "editFieldsInfo": null,
 "ownershipBasedAccessControlForRasters": null,
 "allowComputeTiePoints": false,
 "useStandardizedQueries": true,
 "advancedQueryCapabilities": {
  "useStandardizedQueries": true,
  "supportsStatistics": false,
  "supportsOrderBy": false,
  "supportsDistinct": false,
  "supportsPagination": false
 },
 "spatialReference": {
  "wkid": 102605,
  "latestWkid": 8826
 }
}
