View In:
  ArcGIS JavaScript
  ArcGIS Online Map Viewer
  ArcGIS Earth
  ArcMap
View Footprint In:
  ArcGIS Online Map Viewer
Service Description:  ICIA/Annual_Herb_2020s_RCP_4_5_tif
Name:  ICIA/Annual_Herb_2020s_RCP_4_5_tif
Description:  
Single Fused Map Cache:  false
Extent: 
XMin: 2241676.330913305
YMin: 1198681.7093284247
XMax: 2744596.330913305
YMax: 1982041.7093284247
Spatial Reference: 102605
 (8826)
Initial Extent: 
XMin: 2241676.330913305
YMin: 1198681.7093284247
XMax: 2744596.330913305
YMax: 1982041.7093284247
Spatial Reference: 102605
 (8826)
Full Extent: 
XMin: 2241676.330913305
YMin: 1198681.7093284247
XMax: 2744596.330913305
YMax: 1982041.7093284247
Spatial Reference: 102605
 (8826)
Pixel Size X:  30.0
Pixel Size Y:  30.0
Band Count: 1
Pixel Type: U16
RasterFunction Infos:  {"rasterFunctionInfos": [{
 "name": "None",
 "description": "",
 "help": ""
}]}
Mensuration Capabilities: Basic
Has Histograms:  true
Has Colormap:  false
Has Multi Dimensions :  false
Rendering Rule: 
Min Scale:  0
Max Scale:  0
Copyright Text:  
Service Data Type:  esriImageServiceDataTypeGeneric
Min Values:  1
Max Values:  255
Mean Values:  141.48535657515
Standard Deviation Values:  123.83013369649
Object ID Field:  
Fields: 
None
Default Mosaic Method:  Center
Allowed Mosaic Methods:  
SortField:  
SortValue:  null
Mosaic Operator:  First
Default Compression Quality:  75
Default Resampling Method:  Bilinear
Max Record Count:  null
Max Image Height:  4100
Max Image Width:  15000
Max Download Image Count:  null
Max Mosaic Image Count:  null
Allow Raster Function:  true
Allow Copy:  true
Allow Analysis:  true
Allow Compute TiePoints:  false
Supports Statistics:  false
Supports Advanced Queries:  false
Use StandardizedQueries:  true
Raster Type Infos: 
Name: Raster Dataset
Description: Supports all ArcGIS Raster Datasets
Help: 
Has Raster Attribute Table:  false
Edit Fields Info:  null
Ownership Based AccessControl For Rasters:  null
Child Resources:
  
Info
  Histograms
  Statistics
  Key Properties
  Legend
  Raster Function Infos
Supported Operations:
  
Export Image
  Identify
  Measure
  Compute Histograms
  Compute Statistics Histograms
  Get Samples
  Compute Class Statistics
  Query Boundary
  Compute Pixel Location
  Compute Angles
  Validate
  Project