View In:
ArcGIS JavaScript
ArcGIS Online Map Viewer
ArcGIS Earth
ArcMap
View Footprint In:
ArcGIS Online Map Viewer
Service Description: ICIA/Risk_to_Potential_Structures
Name: ICIA/Risk_to_Potential_Structures
Description:
Single Fused Map Cache: false
Extent:
XMin: 2112551.3568670372
YMin: 1114042.3162341288
XMax: 2787491.3568670372
YMax: 2049472.3162341288
Spatial Reference: 102605
(8826)
Initial Extent:
XMin: 2112551.3568670372
YMin: 1114042.3162341288
XMax: 2787491.3568670372
YMax: 2049472.3162341288
Spatial Reference: 102605
(8826)
Full Extent:
XMin: 2112551.3568670372
YMin: 1114042.3162341288
XMax: 2787491.3568670372
YMax: 2049472.3162341288
Spatial Reference: 102605
(8826)
Pixel Size X: 30.0
Pixel Size Y: 30.0
Band Count: 1
Pixel Type: F32
RasterFunction Infos: {"rasterFunctionInfos": [{
"name": "None",
"description": "",
"help": ""
}]}
Mensuration Capabilities: Basic
Has Histograms: true
Has Colormap: false
Has Multi Dimensions : false
Rendering Rule:
Min Scale: 0
Max Scale: 0
Copyright Text:
Service Data Type: esriImageServiceDataTypeGeneric
Min Values: 0
Max Values: 9.1997709274292
Mean Values: 0.65819691127145
Standard Deviation Values: 0.91824968300775
Object ID Field:
Fields:
None
Default Mosaic Method: Center
Allowed Mosaic Methods:
SortField:
SortValue: null
Mosaic Operator: First
Default Compression Quality: 75
Default Resampling Method: Bilinear
Max Record Count: null
Max Image Height: 4100
Max Image Width: 15000
Max Download Image Count: null
Max Mosaic Image Count: null
Allow Raster Function: true
Allow Copy: true
Allow Analysis: true
Allow Compute TiePoints: false
Supports Statistics: false
Supports Advanced Queries: false
Use StandardizedQueries: true
Raster Type Infos:
Name: Raster Dataset
Description: Supports all ArcGIS Raster Datasets
Help:
Has Raster Attribute Table: false
Edit Fields Info: null
Ownership Based AccessControl For Rasters: null
Child Resources:
Info
Histograms
Statistics
Key Properties
Legend
Raster Function Infos
Supported Operations:
Export Image
Identify
Measure
Compute Histograms
Compute Statistics Histograms
Get Samples
Compute Class Statistics
Query Boundary
Compute Pixel Location
Compute Angles
Validate
Project