View In:
  ArcGIS JavaScript
  ArcGIS Online Map Viewer
  ArcGIS Earth
  ArcMap
View Footprint In:
  ArcGIS Online Map Viewer
Service Description:  ICIA/National_Land_Cover_Database_2006_L48_tif
Name:  ICIA/National_Land_Cover_Database_2006_L48_tif
Description:  
Single Fused Map Cache:  false
Extent: 
XMin: 2241690.3767676568
YMin: 1198688.5132302367
XMax: 2744610.3767676568
YMax: 1982018.5132302367
Spatial Reference: 102605
 (8826)
Initial Extent: 
XMin: 2241690.3767676568
YMin: 1198688.5132302367
XMax: 2744610.3767676568
YMax: 1982018.5132302367
Spatial Reference: 102605
 (8826)
Full Extent: 
XMin: 2241690.3767676568
YMin: 1198688.5132302367
XMax: 2744610.3767676568
YMax: 1982018.5132302367
Spatial Reference: 102605
 (8826)
Pixel Size X:  30.0
Pixel Size Y:  30.0
Band Count: 3
Pixel Type: U8
RasterFunction Infos:  {"rasterFunctionInfos": [{
 "name": "None",
 "description": "",
 "help": ""
}]}
Mensuration Capabilities: Basic
Has Histograms:  false
Has Colormap:  false
Has Multi Dimensions :  false
Rendering Rule: 
Min Scale:  0
Max Scale:  0
Copyright Text:  
Service Data Type:  esriImageServiceDataTypeThematic
Min Values:  N/A
Max Values:  N/A
Mean Values:  N/A
Standard Deviation Values:  N/A
Object ID Field:  
Fields: 
None
Default Mosaic Method:  Center
Allowed Mosaic Methods:  
SortField:  
SortValue:  null
Mosaic Operator:  First
Default Compression Quality:  75
Default Resampling Method:  Bilinear
Max Record Count:  null
Max Image Height:  4100
Max Image Width:  15000
Max Download Image Count:  null
Max Mosaic Image Count:  null
Allow Raster Function:  true
Allow Copy:  true
Allow Analysis:  true
Allow Compute TiePoints:  false
Supports Statistics:  false
Supports Advanced Queries:  false
Use StandardizedQueries:  true
Raster Type Infos: 
Name: Raster Dataset
Description: Supports all ArcGIS Raster Datasets
Help: 
Has Raster Attribute Table:  false
Edit Fields Info:  null
Ownership Based AccessControl For Rasters:  null
Child Resources:
  
Info
  Statistics
  Key Properties
  Legend
  Raster Function Infos
Supported Operations:
  
Export Image
  Identify
  Measure
  Compute Histograms
  Compute Statistics Histograms
  Get Samples
  Compute Class Statistics
  Query Boundary
  Compute Pixel Location
  Compute Angles
  Validate
  Project