View In:
  ArcGIS JavaScript
  ArcGIS Online Map Viewer
  ArcGIS Earth
  ArcMap
View Footprint In:
  ArcGIS Online Map Viewer
Service Description:  ICIA/ProjectedAnnualPrecipitation
Name:  ICIA/ProjectedAnnualPrecipitation
Description:  
Single Fused Map Cache:  false
Extent: 
XMin: 2239396.642967811
YMin: 1198256.0027362807
XMax: 2744396.642967811
YMax: 1983256.0027362807
Spatial Reference: 102605
 (8826)
Initial Extent: 
XMin: 2239396.642967811
YMin: 1198256.0027362807
XMax: 2744396.642967811
YMax: 1983256.0027362807
Spatial Reference: 102605
 (8826)
Full Extent: 
XMin: 2239396.642967811
YMin: 1198256.0027362807
XMax: 2744396.642967811
YMax: 1983256.0027362807
Spatial Reference: 102605
 (8826)
Pixel Size X:  5000.0
Pixel Size Y:  5000.0
Band Count: 1
Pixel Type: F32
RasterFunction Infos:  {"rasterFunctionInfos": [{
 "name": "None",
 "description": "",
 "help": ""
}]}
Mensuration Capabilities: Basic
Has Histograms:  true
Has Colormap:  false
Has Multi Dimensions :  false
Rendering Rule: 
Min Scale:  0
Max Scale:  0
Copyright Text:  
Service Data Type:  esriImageServiceDataTypeGeneric
Min Values:  6.5706028938293
Max Values:  81.630447387695
Mean Values:  24.847644088373
Standard Deviation Values:  13.207564340221
Object ID Field:  
Fields: 
None
Default Mosaic Method:  Center
Allowed Mosaic Methods:  
SortField:  
SortValue:  null
Mosaic Operator:  First
Default Compression Quality:  75
Default Resampling Method:  Bilinear
Max Record Count:  null
Max Image Height:  4100
Max Image Width:  15000
Max Download Image Count:  null
Max Mosaic Image Count:  null
Allow Raster Function:  true
Allow Copy:  true
Allow Analysis:  true
Allow Compute TiePoints:  false
Supports Statistics:  false
Supports Advanced Queries:  false
Use StandardizedQueries:  true
Raster Type Infos: 
Name: Raster Dataset
Description: Supports all ArcGIS Raster Datasets
Help: 
Has Raster Attribute Table:  false
Edit Fields Info:  null
Ownership Based AccessControl For Rasters:  null
Child Resources:
  
Info
  Histograms
  Statistics
  Key Properties
  Legend
  Raster Function Infos
Supported Operations:
  
Export Image
  Identify
  Measure
  Compute Histograms
  Compute Statistics Histograms
  Get Samples
  Compute Class Statistics
  Query Boundary
  Compute Pixel Location
  Compute Angles
  Validate
  Project